BEGIN:VCALENDAR
VERSION:2.0
PRODID:-//eventon.com NONSGML v1.0//EN
CALSCALE:GREGORIAN
METHOD:PUBLISH
BEGIN:VEVENT
UID:69e5fd0add14e
DTSTAMP:20260420T101642Z
DTSTART:20240322T190000Z
DTEND:20240322T225000Z
LOCATION:
SUMMARY:Konzert der Big Energy Band
DESCRIPTION:Konzert der Big Energy Band\nhttps://musikschule-geislingen.de/
 events/konzert-der-big-energy-band-2/
URL:https://musikschule-geislingen.de/events/konzert-der-big-energy-band-2/
END:VEVENT
END:VCALENDAR