BEGIN:VCALENDAR
VERSION:2.0
PRODID:-//eventon.com NONSGML v1.0//EN
CALSCALE:GREGORIAN
METHOD:PUBLISH
BEGIN:VEVENT
UID:69e74d97d420a
DTSTAMP:20260421T101239Z
DTSTART:20260314T160000Z
DTEND:20260314T225000Z
LOCATION:
SUMMARY:Schülervorspiel Klasse G. Hentschel (Harfe\,  Klavier)
DESCRIPTION:Schülervorspiel Klasse G. Hentschel (Harfe\,  Klavier)\nhttps:
 //musikschule-geislingen.de/events/schuelervorspiel-klasse-g-hentschel-harf
 e-klavier-3/
URL:https://musikschule-geislingen.de/events/schuelervorspiel-klasse-g-hentschel-harfe-klavier-3/
END:VEVENT
END:VCALENDAR