BEGIN:VCALENDAR
VERSION:2.0
PRODID:-//eventon.com NONSGML v1.0//EN
CALSCALE:GREGORIAN
METHOD:PUBLISH
BEGIN:VEVENT
UID:69e7679a2171f
DTSTAMP:20260421T120338Z
DTSTART:20260429T170000Z
DTEND:20260429T215000Z
LOCATION:
SUMMARY:Schülervorspiel Klasse J. Rieger (Violoncello)
DESCRIPTION:Schülervorspiel Klasse J. Rieger (Violoncello)\nhttps://musiks
 chule-geislingen.de/events/schuelervorspiel-klasse-j-rieger-violoncello/
URL:https://musikschule-geislingen.de/events/schuelervorspiel-klasse-j-rieger-violoncello/
END:VEVENT
END:VCALENDAR