BEGIN:VCALENDAR
VERSION:2.0
PRODID:-//eventon.com NONSGML v1.0//EN
CALSCALE:GREGORIAN
METHOD:PUBLISH
BEGIN:VEVENT
UID:69eb65b45c096
DTSTAMP:20260424T124436Z
DTSTART:20260513T163000Z
DTEND:20260513T215000Z
LOCATION:
SUMMARY:Schülervorspiel Klasse E. Aichele (Blockflöte\,  Klavier)
DESCRIPTION:Schülervorspiel Klasse E. Aichele (Blockflöte\,  Klavier)\nht
 tps://musikschule-geislingen.de/events/schuelervorspiel-klasse-e-aichele-bl
 ockfloete-klavier-2/
URL:https://musikschule-geislingen.de/events/schuelervorspiel-klasse-e-aichele-blockfloete-klavier-2/
END:VEVENT
END:VCALENDAR